BEGIN:VCALENDAR
VERSION:2.0
METHOD:PUBLISH
BEGIN:VEVENT
UID:WILD_APRICOT_EVENT_2311711_SESSION_1
DTSTART:20170208T073000Z
DTEND:20170208T073000Z
SUMMARY:Australian Academy of Law Public Lecture
LOCATION:Law Lecture Theatre 2\, Adelaide Law School\, Ligertwood Building\, University of Adelaide
DESCRIPTION:http://academyoflaw.org.au/event-2311711\n\nSpeakers: The Hon. Marcia Neave AO\, former Chair of the Royal Commission into Family Violence and former Judge of the Victorian Supreme Court of Appeal\n  Welcome: The Hon. Kevin Lindgren AM QC\, President of the Australian Academy of Law\n  Introduction: Professor Margaret Davies\, Flinders University\n  Vote of Thanks: The Hon. Justice Kevin Nicholson\, Judge of the Supreme Court of South Australia\n  Time and Date: 5:30pm\, Thursday 24 November 2016\n  Venue: Law Lecture Theatre 2\, Adelaide Law School\, Ligertwood Building\, University of Adelaide\n  The Victorian Royal Commission into Family Violence provided in its report a valuable opportunity to understand the ongoing struggles faced both by survivors of domestic violence\, and by those seeking to enforce laws that are targeted at stamping it out. The Victorian Government accepted all 227 of the Royal Commission’s recommendations. In her address\, the Hon. Marcia Neave shall consider the path forward to prevent family violence and protect those affected. The address shall cover both law and social policy solutions\, and the practical intersection of the two\, in the complex and nuanced field of addressing the largely hidden crisis of ongoing family violence.\n  RSVP by Wednesday 16 November\n
DTSTAMP:20190226T042937Z
END:VEVENT
END:VCALENDAR
