BEGIN:VCALENDAR
VERSION:2.0
METHOD:PUBLISH
BEGIN:VEVENT
UID:WILD_APRICOT_EVENT_2646797_SESSION_1
DTSTART:20171101T063000Z
DTEND:20171101T063000Z
SUMMARY:'The Rule of Law in a Post Truth Environment'
LOCATION:Law Theatre 1\, Ligertwood Building\, Law School\, University of Adelaide\, North Terrace\, Adelaide
DESCRIPTION:http://academyoflaw.org.au/event-2646797\n\nSpeaker: Emeritus Professor Gillian Triggs\n Former President of the Australian Human Rights Commission\n\n  Time and Date: 5:30pm\, Wednesday 1 November 2017\n  Venue: Law Theatre 1\, Ligertwood Building\, Law School\, University of Adelaide\, North Terrace\, Adelaide\n  Emeritus Professor Gillian Triggs is the former President of the Australian Human Rights Commission.\n\n  Emeritus Professor Gillian Triggs recently took up the position of Vice Chancellor’s Fellow at the University of Melbourne\, following the completion of her five year term as the President of the Australian Human Rights Commission. Prior to that\, she was Dean of the Faculty of Law and Challis Professor of International Law at the University of Sydney from 2007-12 and Director of the British Institute of International and Comparative Law from 2005-7. She is a former Barrister and a Governor of the College of Law.\n  Professor Triggs has combined an academic career with international commercial legal practice and has advised the Australian and other governments and international organisations on international legal and trade disputes. Her focus at the Commission is on the implementation in Australian law of the human rights treaties to which Australia is a party\, and to work with nations in the Asia Pacific region on practical approaches to human rights.\n  Please see the attached flyer for further information.\n
DTSTAMP:20190226T042609Z
END:VEVENT
END:VCALENDAR
