BEGIN:VCALENDAR
VERSION:2.0
METHOD:PUBLISH
BEGIN:VEVENT
UID:WILD_APRICOT_EVENT_2975123_SESSION_1
DTSTART:20180917T070000Z
DTEND:20180917T090000Z
SUMMARY:Eighth Austin Asche Oration in Law and Governance - 'Free Speech and the Law on Campus'
LOCATION:Nitmiluk Lounge Level 4\, Parliament House\, Darwin
DESCRIPTION:http://academyoflaw.org.au/event-2975123\n\nThe Hon. Robert Shenton French AC delivered the Eighth Austin Asche Oration in Law and Governance\, on the topic of 'Free Speech and the Law on Campus - Do we need a Charter of Rights just for Universities?'\n  The Oration canvassed the content and history of concepts of academic freedom and freedom of expression\, whether they are under threat and whether special measures are necessary to protect freedom of speech and diversity of views in our institutions of higher learning.\n  The event was held on Monday 17 September 2018 at the Nitmiluk Lounge Level 4\, Parliament House\, Darwin.\n  Please see the attached transcript from the event..\n  \n\n
DTSTAMP:20190226T042342Z
END:VEVENT
END:VCALENDAR
