BEGIN:VCALENDAR
VERSION:2.0
METHOD:PUBLISH
BEGIN:VEVENT
UID:WILD_APRICOT_EVENT_3002822_SESSION_1
DTSTART:20181018T060000Z
DTEND:20181018T060000Z
SUMMARY:Patron's Address - Back to the Future? How Local History\, Customs and Traditions are Still Shaping Our Legal Orders
LOCATION:Court One\, Federal Court of Australia\, Level 8\, Commonwealth Law Courts\, 305 William Street Melbourne
DESCRIPTION:http://academyoflaw.org.au/event-3002822\n\nThe Australian Academy of Laws' seventh annual Patron’s Address will be delivered by The Rt. Honourable Dame Sian Elias\, GNZM\, Chief Justice of New Zealand. The address will review directions for the future in what may be seen as a period of transitional justice. \n  The seventh annual Patron's Address will be held at Court one\, Federal Court of Australia\, Level 8\, Commonwealth Law Courts\, 305 William Street Melbourne on Thursday 18 October 2018. \n  Please register by Monday 15 October 2018. \n  Please see the attached flyer for further information. \n   \n
DTSTAMP:20190226T042217Z
END:VEVENT
END:VCALENDAR
