BEGIN:VCALENDAR
VERSION:2.0
METHOD:PUBLISH
BEGIN:VEVENT
UID:WILD_APRICOT_EVENT_3079662_SESSION_1
DTSTART:20181128T063000Z
DTEND:20181128T063000Z
SUMMARY:Book Launch: The Future of Australian Legal Education
LOCATION:Banco Court\, Supreme Court of New South Wales\, Level 13\, Law Courts Building\, Sydney
DESCRIPTION:http://academyoflaw.org.au/event-3079662\n\nYou are warmly invited to the launch of the book\, The Future of Australian Legal education\, by the Hon Justice Margaret Beazley AO\, the President of the New South Wales Court of Appeal. The book\, published by Thomson Reuters\, is a collection of papers that were presented at the Conference held under the same title in August 2017 by the Australian Academy of Law and the Australian Law Journal on the occasion of their 10th and 90th anniversaries (respectively).\n  The launch in the Banco Court\, Sydney on 28 November 2018 and will be followed by “Christmas refreshments” in the foyer.\n  For more information see attached flyer.\n   \n   \n
DTSTAMP:20190226T042102Z
END:VEVENT
END:VCALENDAR
